Workbook
Name DATE: list!$B$728:$B$739
Name DateName: list!$B$728:$C$739
Name EBK_DEIN: list!$B$11:$B$277
Name EBK_DEIN2: list!$B$11:$C$277
Name OP_LIST: list!$A$283:$A$319
Name OP_LIST2: list!$A$283:$B$319
Name PRBK: list!$A$437:$B$725
Name SMETKA: list!$A$2:$C$7

Sheet Cash-Flow-DATA
B1: (бюджетна организация, предприятие по чл. 165, ал. 1 от ЗПФ, поделение) | F1: ЕИК/БУЛСТАТ | G1: код по ЕБК | I1: Web-адрес | L1: e-mail | P1: финансово-правна форма
B2: =+OTCHET!B9 -> ОУ Бачо Киро | F2: =+OTCHET!H9 -> 0 | G2: =+OTCHET!F12 -> 5401 | I2: =+OTCHET!H610 -> 0 | L2: =OTCHET!H608 -> info-300102@edu.mon.bg | P2: =OTCHET!E15 -> 0 | Q2: =OTCHET!F15 -> БЮДЖЕТ | S2: код от регистъра на бюджетните организации в СЕБРА | T2: =+OTCHET!I9 -> 0
B4: ИНФОРМАЦИЯ ЗА ИЗГОТВЯНЕ НА ОТЧЕТ ЗА КАСОВОТО ИЗПЪЛНЕНИЕ | J4: ГОДИНА | L4: =+Q4 -> 2025 | P4: ГОДИНА | Q4: =+OTCHET!C3 -> 2025 | S4: ОТЧЕТ ЗА КАСОВОТО ИЗПЪЛНЕНИЕ НА БЮДЖЕТА, СМЕТКИТЕ ЗА СЕС И ЧУЖДИТЕ СРЕДСТВА
B6: НА БЮДЖЕТА, СМЕТКИТЕ ЗА СРЕДСТВАТА ОТ ЕВРОПЕЙСКИЯ СЪЮЗ И СМЕТКИТЕ ЗА ЧУЖДИ СРЕДСТВА КЪМ | L6: =OTCHET!F9 -> 45961 | N6: (В ЛЕВОВЕ) | P6: =OTCHET!F9 -> 45961 | Q6: (В ЛЕВОВЕ) | S6: =+Q4 -> 2025
F8: БЮДЖЕТ Годишен уточнен план | G8: БЮДЖЕТ -ОТЧЕТ | I8: Сметки за сред-ства от Европей-ския съюз-инди-кативни разчети | J8: Сметки за сред-ства от Евро-пейския съюз - ОТЧЕТ | L8: Сметки за чуж-ди средства - ОТЧЕТ | N8: ОБЩО КАСОВ ОТЧЕТ | P8: таблица 'OTCHET' Год. уточнен план | Q8: таблица 'OTCHET' ОТЧЕТ | S8: §§ от ЕБК, които се включват в съответния показател
B9: П О К А З А Т Е Л И | F9: =+L4 -> 2025 | G9: =+L6 -> 45961 | I9: =+L4 -> 2025 | J9: =+L6 -> 45961 | L9: =+L6 -> 45961 | N9: =+L6 -> 45961 | P9: =+L4 -> 2025 | Q9: =+L6 -> 45961 | S9: П О К А З А Т Е Л И
B10: (а) | F10: (1) | G10: (2) | I10: (3) | J10: (4) | L10: (5) | N10: (6)=(2)+(4)+(5) | P10: (1) | Q10: (2)
B11: А. ПРИХОДИ, ПОМОЩИ И ДАРЕНИЯ | S11: А. ПРИХОДИ, ПОМОЩИ И ДАРЕНИЯ
B12: I. Постъпления от текущи приходи | S12: I. Постъпления от текущи приходи
B13: 1. Приходи от данъци и осигурителни вноски | F13: =+IF($P$2=0,$P13,0) -> 0 | G13: =+IF($P$2=0,$Q13,0) -> 0 | I13: =+IF(OR($P$2=98,$P$2=42,$P$2=96,$P$2=97),$P13,0) -> 0 | J13: =+IF(OR($P$2=98,$P$2=42,$P$2=96,$P$2=97),$Q13,0) -> 0 | L13: =+IF($P$2=33,$Q13,0) -> 0 | N13: =+ROUND(+G13+J13+L13,0) -> 0 | P13: =+ROUND(OTCHET!E22+OTCHET!E28+OTCHET!E33+OTCHET!E39+OTCHET!E47+OTCHET!E52+OTCHET!E58+OTCHET!E61+OTCHET!E64+OTCHET!E65+OTCHET!E72+OTCHET!E73,0) -> 0 | Q13: =+ROUND(OTCHET!L22+OTCHET!L28+OTCHET!L33+OTCHET!L39+OTCHET!L47+OTCHET!L52+OTCHET!L58+OTCHET!L61+OTCHET!L64+OTCHET!L65+OTCHET!L72+OTCHET!L73,0) -> 0 | S13: приходни §§ 01-00 ÷ 20-00
B14: 2. Приходи от такси и вноски | F14: =+IF($P$2=0,$P14,0) -> 0 | G14: =+IF($P$2=0,$Q14,0) -> 0 | I14: =+IF(OR($P$2=98,$P$2=42,$P$2=96,$P$2=97),$P14,0) -> 0 | J14: =+IF(OR($P$2=98,$P$2=42,$P$2=96,$P$2=97),$Q14,0) -> 0 | L14: =+IF($P$2=33,$Q14,0) -> 0 | N14: =+ROUND(+G14+J14+L14,0) -> 0 | P14: =+ROUND(+OTCHET!E90+OTCHET!E93+OTCHET!E94+OTCHET!E113+OTCHET!E114,0) -> 0 | Q14: =+ROUND(+OTCHET!L90+OTCHET!L93+OTCHET!L94+OTCHET!L113+OTCHET!L114,0) -> 0 | S14: приходни §§ 25-00, 26-00, 27-00, 36-08 и 36-10
B15: в т.ч. приходи от вноски | F15: =+IF($P$2=0,$P15,0) -> 0 | G15: =+IF($P$2=0,$Q15,0) -> 0 | I15: =+IF(OR($P$2=98,$P$2=42,$P$2=96,$P$2=97),$P15,0) -> 0 | J15: =+IF(OR($P$2=98,$P$2=42,$P$2=96,$P$2=97),$Q15,0) -> 0 | L15: =+IF($P$2=33,$Q15,0) -> 0 | N15: =+ROUND(+G15+J15+L15,0) -> 0 | P15: =+ROUND(+OTCHET!E113+OTCHET!E114,0) -> 0 | Q15: =+OTCHET!L113+OTCHET!L114 -> 0 | S15: приходни §§ 36-08 и 36-10
B16: 3. Приходи от административни глоби, санкции и наказателни лихви | F16: =+IF($P$2=0,$P16,0) -> 0 | G16: =+IF($P$2=0,$Q16,0) -> 0 | I16: =+IF(OR($P$2=98,$P$2=42,$P$2=96,$P$2=97),$P16,0) -> 0 | J16: =+IF(OR($P$2=98,$P$2=42,$P$2=96,$P$2=97),$Q16,0) -> 0 | L16: =+IF($P$2=33,$Q16,0) -> 0 | N16: =+ROUND(+G16+J16+L16,0) -> 0 | P16: =+ROUND(+OTCHET!E108+OTCHET!E109,0) -> 0 | Q16: =+ROUND(+OTCHET!L108+OTCHET!L109,0) -> 0 | S16: приходни §§ 28-02 и 28-09
B17: 4. Нетни приходи от продажби на услуги, стоки и продукция | F17: =+IF($P$2=0,$P17,0) -> 0 | G17: =+IF($P$2=0,$Q17,0) -> 0 | I17: =+IF(OR($P$2=98,$P$2=42,$P$2=96,$P$2=97),$P17,0) -> 0 | J17: =+IF(OR($P$2=98,$P$2=42,$P$2=96,$P$2=97),$Q17,0) -> 0 | L17: =+IF($P$2=33,$Q17,0) -> 0 | N17: =+ROUND(+G17+J17+L17,0) -> 0 | P17: =+ROUND(OTCHET!E77,0) -> 0 | Q17: =+ROUND(OTCHET!L77,0) -> 0 | S17: приходeн § 24-04
B18: 5. Приходи от наеми | F18: =+IF($P$2=0,$P18,0) -> 0 | G18: =+IF($P$2=0,$Q18,0) -> 0 | I18: =+IF(OR($P$2=98,$P$2=42,$P$2=96,$P$2=97),$P18,0) -> 0 | J18: =+IF(OR($P$2=98,$P$2=42,$P$2=96,$P$2=97),$Q18,0) -> 0 | L18: =+IF($P$2=33,$Q18,0) -> 0 | N18: =+ROUND(+G18+J18+L18,0) -> 0 | P18: =+ROUND(OTCHET!E78+OTCHET!E79,0) -> 0 | Q18: =+ROUND(OTCHET!L78+OTCHET!L79,0) -> 0 | S18: приходни §§ 24-05 и 24-06
B19: 6. Приходи от концесии и лицензии за ползване на публични активи | F19: =+IF($P$2=0,$P19,0) -> 0 | G19: =+IF($P$2=0,$Q19,0) -> 0 | I19: =+IF(OR($P$2=98,$P$2=42,$P$2=96,$P$2=97),$P19,0) -> 0 | J19: =+IF(OR($P$2=98,$P$2=42,$P$2=96,$P$2=97),$Q19,0) -> 0 | L19: =+IF($P$2=33,$Q19,0) -> 0 | N19: =+ROUND(+G19+J19+L19,0) -> 0 | P19: =+ROUND(OTCHET!E135++OTCHET!E136,0) -> 0 | Q19: =+ROUND(OTCHET!L135++OTCHET!L136,0) -> 0 | S19: приходни §§ 41-00 и 42-00
B20: 7. Приходи от лихви | F20: =+IF($P$2=0,$P20,0) -> 0 | G20: =+IF($P$2=0,$Q20,0) -> 0 | I20: =+IF(OR($P$2=98,$P$2=42,$P$2=96,$P$2=97),$P20,0) -> 0 | J20: =+IF(OR($P$2=98,$P$2=42,$P$2=96,$P$2=97),$Q20,0) -> 0 | L20: =+IF($P$2=33,$Q20,0) -> 0 | N20: =+ROUND(+G20+J20+L20,0) -> 0 | P20: =+ROUND(+SUM(OTCHET!E81:E89),0) -> 0 | Q20: =+ROUND(+SUM(OTCHET!L81:L89),0) -> 0 | S20: приходни §§ 24-08 ÷ 24-19
B21: 8. Приходи от дивиденти и дялово участие | F21: =+IF($P$2=0,$P21,0) -> 0 | G21: =+IF($P$2=0,$Q21,0) -> 0 | I21: =+IF(OR($P$2=98,$P$2=42,$P$2=96,$P$2=97),$P21,0) -> 0 | J21: =+IF(OR($P$2=98,$P$2=42,$P$2=96,$P$2=97),$Q21,0) -> 0 | L21: =+IF($P$2=33,$Q21,0) -> 0 | N21: =+ROUND(+G21+J21+L21,0) -> 0 | P21: =+ROUND(OTCHET!E75+OTCHET!E76+OTCHET!E80,0) -> 0 | Q21: =+ROUND(OTCHET!L75+OTCHET!L76+OTCHET!L80,0) -> 0 | S21: приходни §§ 24-01, 24-03 и 24-07
B22: 9. Други текущи приходи и реализирани курсови разлики | F22: =+IF($P$2=0,$P22,0) -> 0 | G22: =+IF($P$2=0,$Q22,0) -> 0 | I22: =+IF(OR($P$2=98,$P$2=42,$P$2=96,$P$2=97),$P22,0) -> 0 | J22: =+IF(OR($P$2=98,$P$2=42,$P$2=96,$P$2=97),$Q22,0) -> 0 | L22: =+IF($P$2=33,$Q22,0) -> 0 | N22: =+ROUND(+G22+J22+L22,0) -> 0 | P22: =+ROUND(OTCHET!E111+OTCHET!E112+OTCHET!E118,0) -> 0 | Q22: =+ROUND(OTCHET!L111+OTCHET!L112+OTCHET!L118,0) -> 0 | S22: приходни §§ 36-01, 36-05 и 36-19
B23: Общо за група І. Постъпления от текущи приходи | F23: =+ROUND(+SUM(F13,F14,F16,F17,F18,F19,F20,F21,F22),0) -> 0 | G23: =+ROUND(+SUM(G13,G14,G16,G17,G18,G19,G20,G21,G22),0) -> 0 | I23: =+ROUND(+SUM(I13,I14,I16,I17,I18,I19,I20,I21,I22),0) -> 0 | J23: =+ROUND(+SUM(J13,J14,J16,J17,J18,J19,J20,J21,J22),0) -> 0 | L23: =+ROUND(+SUM(L13,L14,L16,L17,L18,L19,L20,L21,L22),0) -> 0 | N23: =+ROUND(+SUM(N13,N14,N16,N17,N18,N19,N20,N21,N22),0) -> 0 | P23: =+ROUND(+SUM(P13,P14,P16,P17,P18,P19,P20,P21,P22),0) -> 0 | Q23: =+ROUND(+SUM(Q13,Q14,Q16,Q17,Q18,Q19,Q20,Q21,Q22),0) -> 0 | S23: сборен ред за група І. Постъпления от текущи приходи
B24: IІ. Реализация на нефинансови активи и конфискувани средства | S24: IІ. Реализация на нефинансови активи и конфискувани средства
B25: 1. Продажба на земя | F25: =+IF($P$2=0,$P25,0) -> 0 | G25: =+IF($P$2=0,$Q25,0) -> 0 | I25: =+IF(OR($P$2=98,$P$2=42,$P$2=96,$P$2=97),$P25,0) -> 0 | J25: =+IF(OR($P$2=98,$P$2=42,$P$2=96,$P$2=97),$Q25,0) -> 0 | L25: =+IF($P$2=33,$Q25,0) -> 0 | N25: =+ROUND(+G25+J25+L25,0) -> 0 | P25: =+ROUND(OTCHET!E133,0) -> 0 | Q25: =+ROUND(OTCHET!L133,0) -> 0 | S25: приходeн § 40-40
B26: 2. Продажба на други нефинансови дълготрайни активи | F26: =+IF($P$2=0,$P26,0) -> 0 | G26: =+IF($P$2=0,$Q26,0) -> 0 | I26: =+IF(OR($P$2=98,$P$2=42,$P$2=96,$P$2=97),$P26,0) -> 0 | J26: =+IF(OR($P$2=98,$P$2=42,$P$2=96,$P$2=97),$Q26,0) -> 0 | L26: =+IF($P$2=33,$Q26,0) -> 0 | N26: =+ROUND(+G26+J26+L26,0) -> 0 | P26: =+ROUND(+SUM(OTCHET!E124:E132)+OTCHET!E134,0) -> 0 | Q26: =+ROUND(+SUM(OTCHET!L124:L132)+OTCHET!L134,0) -> 0 | S26: приходeн § 40-00 без §§ 40-40 и 40-71
B27: 3. Конфиск. средства и продажби на конфискувани и от залог нефин. активи | F27: =+IF($P$2=0,$P27,0) -> 0 | G27: =+IF($P$2=0,$Q27,0) -> 0 | I27: =+IF(OR($P$2=98,$P$2=42,$P$2=96,$P$2=97),$P27,0) -> 0 | J27: =+IF(OR($P$2=98,$P$2=42,$P$2=96,$P$2=97),$Q27,0) -> 0 | L27: =+IF($P$2=33,$Q27,0) -> 0 | N27: =+ROUND(+G27+J27+L27,0) -> 0 | P27: =+ROUND(+OTCHET!E107,0) -> 0 | Q27: =+ROUND(+OTCHET!L107,0) -> 0 | S27: приходeн § 28-01
B28: Общо за група ІІ. Постъпления от продажби на нефинансови активи | F28: =+ROUND(+SUM(F25:F27),0) -> 0 | G28: =+ROUND(+SUM(G25:G27),0) -> 0 | I28: =+ROUND(+SUM(I25:I27),0) -> 0 | J28: =+ROUND(+SUM(J25:J27),0) -> 0 | L28: =+ROUND(+SUM(L25:L27),0) -> 0 | N28: =+ROUND(+SUM(N25:N27),0) -> 0 | P28: =+ROUND(+SUM(P25:P27),0) -> 0 | Q28: =+ROUND(+SUM(Q25:Q27),0) -> 0 | S28: сборен ред за група ІІ. Постъпления от продажби на нефинансови активи
B30: IІI. Внесен ДДС, др. данъци в/у продажбите и коректив за постъпления
B31: 1. Внесен ДДС
B32: 2. Внесен данък върху приходите от стопанска дейност
B33: 3. Внесени други данъци върху продажбите
B34: 4. Коректив за касови постъпления
B35: ІІІ. Внесен ДДС и др. данъци в/у продажбите и коректив за постъпления | F35: =+IF($P$2=0,$P35,0) -> 0 | G35: =+IF($P$2=0,$Q35,0) -> 0 | I35: =+IF(OR($P$2=98,$P$2=42,$P$2=96,$P$2=97),$P35,0) -> 0 | J35: =+IF(OR($P$2=98,$P$2=42,$P$2=96,$P$2=97),$Q35,0) -> 0 | L35: =+IF($P$2=33,$Q35,0) -> 0 | N35: =+ROUND(+G35+J35+L35,0) -> 0 | P35: =+ROUND(+OTCHET!E119+OTCHET!E117,0) -> 0 | Q35: =+ROUND(+OTCHET!L119+OTCHET!L117,0) -> 0 | S35: ІІІ. Внесен ДДС и др. д-ци в/у продажбите и коректив - приходни § 36-18 и 37-00
B36: в т. ч. внесен ДДС | F36: =+IF($P$2=0,$P36,0) -> 0 | G36: =+IF($P$2=0,$Q36,0) -> 0 | I36: =+IF(OR($P$2=98,$P$2=42,$P$2=96,$P$2=97),$P36,0) -> 0 | J36: =+IF(OR($P$2=98,$P$2=42,$P$2=96,$P$2=97),$Q36,0) -> 0 | L36: =+IF($P$2=33,$Q36,0) -> 0 | N36: =+ROUND(+G36+J36+L36,0) -> 0 | P36: =+ROUND(OTCHET!E120,0) -> 0 | Q36: =+ROUND(OTCHET!L120,0) -> 0 | S36: приходен § 37-01
B37: внесен данък в/у приходите от стопанска дейност | F37: =+IF($P$2=0,$P37,0) -> 0 | G37: =+IF($P$2=0,$Q37,0) -> 0 | I37: =+IF(OR($P$2=98,$P$2=42,$P$2=96,$P$2=97),$P37,0) -> 0 | J37: =+IF(OR($P$2=98,$P$2=42,$P$2=96,$P$2=97),$Q37,0) -> 0 | L37: =+IF($P$2=33,$Q37,0) -> 0 | N37: =+ROUND(+G37+J37+L37,0) -> 0 | P37: =+ROUND(OTCHET!E121,0) -> 0 | Q37: =+ROUND(OTCHET!L121,0) -> 0 | S37: приходен § 37-02
B38: внесени други данъци, такси и вноски в/у продажбите | F38: =+IF($P$2=0,$P38,0) -> 0 | G38: =+IF($P$2=0,$Q38,0) -> 0 | I38: =+IF(OR($P$2=98,$P$2=42,$P$2=96,$P$2=97),$P38,0) -> 0 | J38: =+IF(OR($P$2=98,$P$2=42,$P$2=96,$P$2=97),$Q38,0) -> 0 | L38: =+IF($P$2=33,$Q38,0) -> 0 | N38: =+ROUND(+G38+J38+L38,0) -> 0 | P38: =+ROUND(OTCHET!E122,0) -> 0 | Q38: =+ROUND(OTCHET!L122,0) -> 0 | S38: приходен § 37-09
B40: IV. Постъпления от застрахователни обезщетения | F40: =+IF($P$2=0,$P40,0) -> 0 | G40: =+IF($P$2=0,$Q40,0) -> 0 | I40: =+IF(OR($P$2=98,$P$2=42,$P$2=96,$P$2=97),$P40,0) -> 0 | J40: =+IF(OR($P$2=98,$P$2=42,$P$2=96,$P$2=97),$Q40,0) -> 0 | L40: =+IF($P$2=33,$Q40,0) -> 0 | N40: =+ROUND(+G40+J40+L40,0) -> 0 | P40: =+ROUND(OTCHET!E115+OTCHET!E116,0) -> 0 | Q40: =+ROUND(OTCHET!L115+OTCHET!L116,0) -> 0 | S40: IV. Постъпления от застрахователни обезщетения - приходни § 36-11 и 36-12
B41: V. Приходи от помощи и дарения | S41: V. Приходи от помощи и дарения
B42: 1. Помощи и дарения от Европейския съюз | F42: =+IF($P$2=0,$P42,0) -> 0 | G42: =+IF($P$2=0,$Q42,0) -> 0 | I42: =+IF(OR($P$2=98,$P$2=42,$P$2=96,$P$2=97),$P42,0) -> 0 | J42: =+IF(OR($P$2=98,$P$2=42,$P$2=96,$P$2=97),$Q42,0) -> 0 | L42: =+IF($P$2=33,$Q42,0) -> 0 | N42: =+ROUND(+G42+J42+L42,0) -> 0 | P42: =+ROUND(OTCHET!E141+OTCHET!E142+OTCHET!E159+OTCHET!E160,0) -> 0 | Q42: =+ROUND(OTCHET!L141+OTCHET!L142+OTCHET!L159+OTCHET!L160,0) -> 0 | S42: приходни §§ 46-10, 46-20, 48-10 и 48-20
B43: 2. Други помощи и дарения от чужбина | F43: =+IF($P$2=0,$P43,0) -> 0 | G43: =+IF($P$2=0,$Q43,0) -> 0 | I43: =+IF(OR($P$2=98,$P$2=42,$P$2=96,$P$2=97),$P43,0) -> 0 | J43: =+IF(OR($P$2=98,$P$2=42,$P$2=96,$P$2=97),$Q43,0) -> 0 | L43: =+IF($P$2=33,$Q43,0) -> 0 | N43: =+ROUND(+G43+J43+L43,0) -> 0 | P43: =+ROUND(+SUM(OTCHET!E143:E148)+SUM(OTCHET!E161:E166),0) -> 0 | Q43: =+ROUND(+SUM(OTCHET!L143:L148)+SUM(OTCHET!L161:L166),0) -> 0 | S43: приходни §§ 46-30 ÷ 46-80 и §§ 48-30 ÷ 48-80
B44: 3. Други безвъзмездно получени средства по международни и други програми | F44: =+IF($P$2=0,$P44,0) -> 0 | G44: =+IF($P$2=0,$Q44,0) -> 0 | I44: =+IF(OR($P$2=98,$P$2=42,$P$2=96,$P$2=97),$P44,0) -> 0 | J44: =+IF(OR($P$2=98,$P$2=42,$P$2=96,$P$2=97),$Q44,0) -> 0 | L44: =+IF($P$2=33,$Q44,0) -> 0 | N44: =+ROUND(+G44+J44+L44,0) -> 0 | P44: =+ROUND(OTCHET!E149,0) -> 0 | Q44: =+ROUND(OTCHET!L149,0) -> 0 | S44: приходeн § 47-00
B45: 4. Помощи и дарения от страната | F45: =+IF($P$2=0,$P45,0) -> 18052 | G45: =+IF($P$2=0,$Q45,0) -> 18052 | I45: =+IF(OR($P$2=98,$P$2=42,$P$2=96,$P$2=97),$P45,0) -> 0 | J45: =+IF(OR($P$2=98,$P$2=42,$P$2=96,$P$2=97),$Q45,0) -> 0 | L45: =+IF($P$2=33,$Q45,0) -> 0 | N45: =+ROUND(+G45+J45+L45,0) -> 18052 | P45: =+ROUND(OTCHET!E137,0) -> 18052 | Q45: =+ROUND(OTCHET!L137,0) -> 18052 | S45: приходeн § 45-00
...

Sheet OTCHET-agregirani pokazateli
B8: =VLOOKUP(E15,SMETKA,3,FALSE) -> ОТЧЕТ ЗА КАСОВОТО ИЗПЪЛНЕНИЕ НА БЮДЖЕТА
B11: =+OTCHET!B9 -> ОУ Бачо Киро | E11: към | F11: =OTCHET!F9 -> 45961 | G11: ЕИК/БУЛСТАТ | H11: =OTCHET!H9 -> 0 | I11: =OTCHET!I9 -> 0
B12: (наименование на разпоредителя с бюджет) | I12: код от регистъра на бюджетните организации в СЕБРА
B13: =+OTCHET!B12 -> Велико Търново | E13: =+OTCHET!E12 -> код по ЕБК: | F13: =+OTCHET!F12 -> 5401
B14: (наименование на първостепенния разпоредител с бюджет)
B15: финансово-правна форма | E15: =OTCHET!E15 -> 0 | F15: =OTCHET!F15 -> БЮДЖЕТ
C17: §§ | E17: =CONCATENATE("Годишен уточнен план ",OTCHET!$C$3, " г.") -> Годишен уточнен план 2025 г. | F17: =CONCATENATE("ОТЧЕТ ",OTCHET!$C$3, " г.") -> ОТЧЕТ 2025 г. | G17: ОТЧЕТНИ ДАННИ ЗА: | K17: §§ от ЕБК, които се включват в съответния показател
B18: П О К А З А Т Е Л И | G18: държавни дейности | H18: местни дейности | I18: дофинансиране
B20: (а) | E20: (1) | F20: (2) | G20: (3) | H20: (4) | I20: (5)
A22: 10 | B22: I. ПРИХОДИ, ПОМОЩИ И ДАРЕНИЯ | C22: §§ 01 - 48 | E22: =+E23+E25+E36+E37 -> 18052 | F22: =+F23+F25+F36+F37 -> 18052 | G22: =+G23+G25+G36+G37 -> 18052 | H22: =+H23+H25+H36+H37 -> 0 | I22: =+I23+I25+I36+I37 -> 0 | K22: §§ 01 - 48
A23: 15 | B23: 1. Данъчни приходи | C23: §§ 01 - 20 | E23: =OTCHET!E22+OTCHET!E28+OTCHET!E33+OTCHET!E39+OTCHET!E47+OTCHET!E52+OTCHET!E58+OTCHET!E61+OTCHET!E64+OTCHET!E65+OTCHET!E72+OTCHET!E73 -> 0 | F23: =+G23+H23+I23 -> 0 | G23: =OTCHET!I22+OTCHET!I28+OTCHET!I33+OTCHET!I39+OTCHET!I47+OTCHET!I52+OTCHET!I58+OTCHET!I61+OTCHET!I64+OTCHET!I65+OTCHET!I72+OTCHET!I73 -> 0 | H23: =OTCHET!J22+OTCHET!J28+OTCHET!J33+OTCHET!J39+OTCHET!J47+OTCHET!J52+OTCHET!J58+OTCHET!J61+OTCHET!J64+OTCHET!J65+OTCHET!J72+OTCHET!J73 -> 0 | I23: =OTCHET!K22+OTCHET!K28+OTCHET!K33+OTCHET!K39+OTCHET!K47+OTCHET!K52+OTCHET!K58+OTCHET!K61+OTCHET!K64+OTCHET!K65+OTCHET!K72+OTCHET!K73 -> 0 | K23: §§ 01 - 20
B24: в т. ч. трансфери за отчислени приходи | C24: § 65 | F24: =+G24+H24+I24 -> 0 | K24: § 65
A25: 20 | B25: 2. Други приходи | C25: §§ 24 - 42 | E25: =+E26+E30+E31+E32+E33 -> 0 | F25: =+F26+F30+F31+F32+F33 -> 0 | G25: =+G26+G30+G31+G32+G33 -> 0 | H25: =+H26+H30+H31+H32+H33 -> 0 | I25: =+I26+I30+I31+I32+I33 -> 0 | K25: §§ 24 - 42
A26: 25 | B26: 2.1 Приходи и доходи от собственост | C26: §24 | E26: =OTCHET!E74 -> 0 | F26: =+G26+H26+I26 -> 0 | G26: =OTCHET!I74 -> 0 | H26: =OTCHET!J74 -> 0 | I26: =OTCHET!K74 -> 0 | K26: §24
A27: 26 | B27: в т. ч. вноски от приходи на държавни и общински предприятия и институции | C27: под.§ 24-01 | E27: =OTCHET!E75 -> 0 | F27: =+G27+H27+I27 -> 0 | G27: =OTCHET!I75 -> 0 | H27: =OTCHET!J75 -> 0 | I27: =OTCHET!K75 -> 0 | K27: под.§ 24-01
A28: 30 | B28: нетни приходи от продажба на услуги, стоки и продукция | C28: под.§ 24-04 | E28: =OTCHET!E77 -> 0 | F28: =+G28+H28+I28 -> 0 | G28: =OTCHET!I77 -> 0 | H28: =OTCHET!J77 -> 0 | I28: =OTCHET!K77 -> 0 | K28: под.§ 24-04
A29: 35 | B29: приходи от наеми на имущество и земя | C29: под.§§ 24-05 и 24-06 | E29: =+OTCHET!E78+OTCHET!E79 -> 0 | F29: =+G29+H29+I29 -> 0 | G29: =+OTCHET!I78+OTCHET!I79 -> 0 | H29: =+OTCHET!J78+OTCHET!J79 -> 0 | I29: =+OTCHET!K78+OTCHET!K79 -> 0 | K29: под.§§ 24-05 и 24-06
A30: 40 | B30: 2.2 Приходи от такси | C30: §§ 25 - 27 | E30: =OTCHET!E90+OTCHET!E93+OTCHET!E94 -> 0 | F30: =+G30+H30+I30 -> 0 | G30: =OTCHET!I90+OTCHET!I93+OTCHET!I94 -> 0 | H30: =OTCHET!J90+OTCHET!J93+OTCHET!J94 -> 0 | I30: =OTCHET!K90+OTCHET!K93+OTCHET!K94 -> 0 | K30: §§ 25 - 27
A31: 45 | B31: 2.3 Глоби, санкции и наказателни лихви | C31: §28 | E31: =OTCHET!E106 -> 0 | F31: =+G31+H31+I31 -> 0 | G31: =OTCHET!I106 -> 0 | H31: =OTCHET!J106 -> 0 | I31: =OTCHET!K106 -> 0 | K31: §28
A32: 50 | B32: 2.4 Други неданъчни приходи | C32: §§ 36 - 37 и §§ 41 - 42 | E32: =OTCHET!E110+OTCHET!E119+OTCHET!E135+OTCHET!E136 -> 0 | F32: =+G32+H32+I32 -> 0 | G32: =OTCHET!I110+OTCHET!I119+OTCHET!I135+OTCHET!I136 -> 0 | H32: =OTCHET!J110+OTCHET!J119+OTCHET!J135+OTCHET!J136 -> 0 | I32: =OTCHET!K110+OTCHET!K119+OTCHET!K135+OTCHET!K136 -> 0 | K32: §§ 36 - 37 и §§ 41 - 42
A33: 51 | B33: 2.5 Постъпления от продажба на нефинансови активи | C33: § 40 с изключение на под.§ 40-71 | E33: =OTCHET!E123 -> 0 | F33: =+G33+H33+I33 -> 0 | G33: =OTCHET!I123 -> 0 | H33: =OTCHET!J123 -> 0 | I33: =OTCHET!K123 -> 0 | K33: § 40 с изключение на под.§ 40-71
A34: 52 | F34: =+G34+H34+I34 -> 0
F35: =+G35+H35+I35 -> 0
A36: 60 | B36: 3. Помощи и дарения от страната | C36: § 45 | E36: =+OTCHET!E137 -> 18052 | F36: =+G36+H36+I36 -> 18052 | G36: =+OTCHET!I137 -> 18052 | H36: =+OTCHET!J137 -> 0 | I36: =+OTCHET!K137 -> 0 | K36: § 45
A37: 65 | B37: 4. Помощи и дарения от чужбина | C37: §§ 46 - 48 | E37: =OTCHET!E140+OTCHET!E149+OTCHET!E158 -> 0 | F37: =+G37+H37+I37 -> 0 | G37: =OTCHET!I140+OTCHET!I149+OTCHET!I158 -> 0 | H37: =OTCHET!J140+OTCHET!J149+OTCHET!J158 -> 0 | I37: =OTCHET!K140+OTCHET!K149+OTCHET!K158 -> 0 | K37: §§ 46 - 48
A38: 70 | B38: II. РАЗХОДИ | C38: §§ 01 - 57 | E38: =E39+E43+E44+E46+SUM(E48:E52)+E55 -> 5133059 | F38: =F39+F43+F44+F46+SUM(F48:F52)+F55 -> 3525939 | G38: =G39+G43+G44+G46+SUM(G48:G52)+G55 -> 3524819 | H38: =H39+H43+H44+H46+SUM(H48:H52)+H55 -> 1120 | I38: =I39+I43+I44+I46+SUM(I48:I52)+I55 -> 0 | K38: §§ 01 - 57
B39: 1. Персонал | E39: =SUM(E40:E42) -> 3920017 | F39: =SUM(F40:F42) -> 2977587 | G39: =SUM(G40:G42) -> 2977587 | H39: =SUM(H40:H42) -> 0 | I39: =SUM(I40:I42) -> 0 | K39: §§ 1 - 8
A40: 75 | B40: 1.1. Заплати и възнаграждения за персонала, нает по трудови и служебни прав. | C40: § 01 | E40: =OTCHET!E187 -> 2888637 | F40: =+G40+H40+I40 -> 2304879 | G40: =OTCHET!I187 -> 2304879 | H40: =OTCHET!J187 -> 0 | I40: =OTCHET!K187 -> 0 | K40: § 01
A41: 80 | B41: 1.2. Други възнаграждения и плащания за персонала | C41: § 02 | E41: =OTCHET!E190 -> 153175 | F41: =+G41+H41+I41 -> 134013 | G41: =OTCHET!I190 -> 134013 | H41: =OTCHET!J190 -> 0 | I41: =OTCHET!K190 -> 0 | K41: § 02
A42: 85 | B42: 1.3. Осигурителни вноски | C42: §§ 05 и 08 | E42: =+OTCHET!E196+OTCHET!E204 -> 878205 | F42: =+G42+H42+I42 -> 538695 | G42: =+OTCHET!I196+OTCHET!I204 -> 538695 | H42: =+OTCHET!J196+OTCHET!J204 -> 0 | I42: =+OTCHET!K196+OTCHET!K204 -> 0 | K42: §§ 05 и 08
A43: 90 | B43: 2. Издръжка | C43: §§ 10; 19; 46 | E43: =+OTCHET!E205+OTCHET!E223+OTCHET!E274 -> 1095989 | F43: =+G43+H43+I43 -> 432810 | G43: =+OTCHET!I205+OTCHET!I223+OTCHET!I274 -> 432637 | H43: =+OTCHET!J205+OTCHET!J223+OTCHET!J274 -> 173 | I43: =+OTCHET!K205+OTCHET!K223+OTCHET!K274 -> 0 | K43: §§ 10; 19; 46
A44: 95 | B44: 3. Лихви | C44: §§ 21 - 29 | E44: =+OTCHET!E227+OTCHET!E233+OTCHET!E236+OTCHET!E237+OTCHET!E238+OTCHET!E239+OTCHET!E243 -> 0 | F44: =+G44+H44+I44 -> 0 | G44: =+OTCHET!I227+OTCHET!I233+OTCHET!I236+OTCHET!I237+OTCHET!I238+OTCHET!I239+OTCHET!I243 -> 0 | H44: =+OTCHET!J227+OTCHET!J233+OTCHET!J236+OTCHET!J237+OTCHET!J238+OTCHET!J239+OTCHET!J243 -> 0 | I44: =+OTCHET!K227+OTCHET!K233+OTCHET!K236+OTCHET!K237+OTCHET!K238+OTCHET!K239+OTCHET!K243 -> 0 | K44: §§ 21 - 29
A45: 100 | B45: в т. ч. външни | C45: §§ 25 - 28; 29-69/29-70 и 29-92 | E45: =+OTCHET!E236+OTCHET!E237+OTCHET!E238+OTCHET!E239+OTCHET!E246+OTCHET!E247+OTCHET!E251 -> 0 | F45: =+G45+H45+I45 -> 0 | G45: =+OTCHET!I236+OTCHET!I237+OTCHET!I238+OTCHET!I239+OTCHET!I246+OTCHET!I247+OTCHET!I251 -> 0 | H45: =+OTCHET!J236+OTCHET!J237+OTCHET!J238+OTCHET!J239+OTCHET!J246+OTCHET!J247+OTCHET!J251 -> 0 | I45: =+OTCHET!K236+OTCHET!K237+OTCHET!K238+OTCHET!K239+OTCHET!K246+OTCHET!K247+OTCHET!K251 -> 0 | K45: §§ 25 - 28; 29-69/29-70 и 29-92
A46: 105 | B46: 4. Социални разходи, стипендии | C46: §§ 39 - 42 | E46: =+OTCHET!E258+OTCHET!E259+OTCHET!E260+OTCHET!E261 -> 3447 | F46: =+G46+H46+I46 -> 1936 | G46: =+OTCHET!I258+OTCHET!I259+OTCHET!I260+OTCHET!I261 -> 989 | H46: =+OTCHET!J258+OTCHET!J259+OTCHET!J260+OTCHET!J261 -> 947 | I46: =+OTCHET!K258+OTCHET!K259+OTCHET!K260+OTCHET!K261 -> 0 | K46: §§ 39 - 42
A47: 106 | B47: в т. ч. стипендии | C47: § 40 | E47: =+OTCHET!E259 -> 0 | F47: =+G47+H47+I47 -> 0 | G47: =+OTCHET!I259 -> 0 | H47: =+OTCHET!J259 -> 0 | I47: =+OTCHET!K259 -> 0 | K47: § 40
A48: 107 | B48: 5.Субсидии | C48: §§ 43 - 45; 49 | E48: =+OTCHET!E268+OTCHET!E272+OTCHET!E273 -> 0 | F48: =+G48+H48+I48 -> 0 | G48: =+OTCHET!I268+OTCHET!I272+OTCHET!I273 -> 0 | H48: =+OTCHET!J268+OTCHET!J272+OTCHET!J273 -> 0 | I48: =+OTCHET!K268+OTCHET!K272+OTCHET!K273 -> 0 | K48: §§ 43 - 45
A49: 108 | B49: 6. Придобиване на нeфинансови актииви | C49: §§ 51 - 54 | E49: =OTCHET!E278+OTCHET!E279+OTCHET!E287+OTCHET!E290 -> 113606 | F49: =+G49+H49+I49 -> 113606 | G49: =OTCHET!I278+OTCHET!I279+OTCHET!I287+OTCHET!I290 -> 113606 | H49: =OTCHET!J278+OTCHET!J279+OTCHET!J287+OTCHET!J290 -> 0 | I49: =OTCHET!K278+OTCHET!K279+OTCHET!K287+OTCHET!K290 -> 0 | K49: §§ 51 - 54
A50: 110 | B50: 7. Капиталови трансфери | C50: § 55 | E50: =+OTCHET!E291 -> 0 | F50: =+G50+H50+I50 -> 0 | G50: =+OTCHET!I291 -> 0 | H50: =+OTCHET!J291 -> 0 | I50: =+OTCHET!K291 -> 0 | K50: § 55
B51: 8. Предоставени текущи и капиталови трансфери за чужбина | E51: =+OTCHET!E275 -> 0 | F51: =+G51+H51+I51 -> 0 | G51: =+OTCHET!I275 -> 0 | H51: =+OTCHET!J275 -> 0 | I51: =+OTCHET!K275 -> 0 | K51: § 49
A52: 115 | B52: 9. Прираст на държавния резерв и изкупуване на земеделска продукция | C52: (+ § 57 - под.§ 40-71) | E52: =+OTCHET!E296 -> 0 | F52: =+G52+H52+I52 -> 0 | G52: =+OTCHET!I296 -> 0 | H52: =+OTCHET!J296 -> 0 | I52: =+OTCHET!K296 -> 0 | K52: (+ § 57 - под.§ 40-71)
...

Sheet OTCHET
A1: a | B1: b | C1: c | D1: d | E1: e | F1: f | G1: f | H1: f | I1: f | J1: f | K1: f | L1: f | M1: endprint
A2: 2 | M2: 1
B3: година | C3: 2025 | M3: 1
C4: 1.01 | M4: 1
M5: 1
M6: 1
B7: =VLOOKUP(E15,SMETKA,2,FALSE) -> ОТЧЕТНИ ДАННИ ПО ЕБК ЗА ИЗПЪЛНЕНИЕТО НА БЮДЖЕТА | M7: 1
E8: за периода от | F8: до | M8: 1
B9: ОУ Бачо Киро | E9: =DATE($C$3,1,1) -> 45658 | F9: 45961 | M9: 1
B10: (наименование на разпоредителя с бюджет) | F10: =VLOOKUP(F9,DateName,2,FALSE) -> октомври | I10: код от регистъра на бюджетните организации в СЕБРА | M10: 1
M11: 1
B12: =VLOOKUP(F12,PRBK,2,FALSE) -> Велико Търново | E12: код по ЕБК: | F12: 5401 | M12: 1
B13: (наименование на първостепенния разпоредител с бюджет) | M13: 1
M14: 1
D15: ФИНАНСОВО-ПРАВНА ФОРМА | E15: 0 | F15: =+IF(+E15=0,"БЮДЖЕТ",+IF(+E15=98,"СЕС - КСФ",+IF(+E15=42,"СЕС - РА",+IF(+E15=96,"СЕС - ДЕС",+IF(+E15=97,"СЕС - ДМП",+IF(+E15=33,"Чужди средства")))))) -> БЮДЖЕТ | M15: 1
B16: =CONCATENATE("Бланка версия ",$C$4, " от ",$C$3,"г.") -> Бланка версия 1.01 от 2025г. | M16: 1
M17: 1
L18: (в лева) | M18: 1
D19: I. П Р И Х О Д И, П О М О Щ И И Д А Р Е Н И Я | E19: =CONCATENATE("Уточнен план ", $C$3, " - ПРИХОДИ") -> Уточнен план 2025 - ПРИХОДИ | I19: =CONCATENATE("Отчет ", $C$3, " - ПРИХОДИ") -> Отчет 2025 - ПРИХОДИ | M19: 1
B20: §§ | C20: под-§§ | D20: Н А И М Е Н О В А Н И Е | E20: Уточнен план Общо | F20: държавни дейности | G20: местни дейности | H20: дофинансиране | I20: държавни дейности -ОТЧЕТ | J20: местни дейности - ОТЧЕТ | K20: дофинансиране - ОТЧЕТ | L20: ОТЧЕТ ОБЩО | M20: 1
D21: 0 1 ¦ | E21: (1) | F21: (2) | G21: (3) | H21: (4) | I21: (5) | J21: (6) | K21: (7) | L21: (8) | M21: 1
A22: 5 | B22: 100 | C22: Данък върху доходите на физически лица: | E22: =SUM(E23:E25,E26:E27) -> 0 | F22: =SUM(F23:F25,F26:F27) -> 0 | G22: =SUM(G23:G25,G26:G27) -> 0 | H22: =SUM(H23:H25,H26:H27) -> 0 | I22: =SUM(I23:I25,I26:I27) -> 0 | J22: =SUM(J23:J25,J26:J27) -> 0 | K22: =SUM(K23:K25,K26:K27) -> 0 | L22: =SUM(L23:L25,L26:L27) -> 0 | M22: =(IF($E22<>0,$M$2,IF($L22<>0,$M$2,"")))
A23: 10 | C23: 101 | D23: от доходи по трудови, служебни и приравнени на тях правоотношения | E23: =F23+G23+H23 -> 0 | F23: 0 | G23: 0 | H23: 0 | I23: 0 | J23: 0 | K23: 0 | L23: =I23+J23+K23 -> 0 | M23: =(IF($E23<>0,$M$2,IF($L23<>0,$M$2,"")))
A24: 15 | C24: 102 | D24: за доходи на еднолични търговци, свободни професии, извънтрудови правоотношения и др. | E24: =F24+G24+H24 -> 0 | F24: 0 | G24: 0 | H24: 0 | I24: 0 | J24: 0 | K24: 0 | L24: =I24+J24+K24 -> 0 | M24: =(IF($E24<>0,$M$2,IF($L24<>0,$M$2,"")))
A25: 20 | C25: 103 | D25: патентен данък и данък върху таксиметров превоз на пътници | E25: =F25+G25+H25 -> 0 | F25: 0 | H25: 0 | I25: 0 | K25: 0 | L25: =I25+J25+K25 -> 0 | M25: =(IF($E25<>0,$M$2,IF($L25<>0,$M$2,"")))
A26: 20 | C26: 108 | D26: окончателен данък върху доходите от лихви по банкови сметки на местните физически лица | E26: =F26+G26+H26 -> 0 | F26: 0 | G26: 0 | H26: 0 | I26: 0 | J26: 0 | K26: 0 | L26: =I26+J26+K26 -> 0 | M26: =(IF($E26<>0,$M$2,IF($L26<>0,$M$2,"")))
A27: 21 | C27: 109 | D27: окончателен данък върху доходи на местни и чуждестранни физически лица по чл. 37 и 38 от ЗДДФЛ | E27: =F27+G27+H27 -> 0 | F27: 0 | G27: 0 | H27: 0 | I27: 0 | J27: 0 | K27: 0 | L27: =I27+J27+K27 -> 0 | M27: =(IF($E27<>0,$M$2,IF($L27<>0,$M$2,"")))
A28: 25 | B28: 200 | C28: Корпоративен данък: | E28: =SUM(E29:E32) -> 0 | F28: =SUM(F29:F32) -> 0 | G28: =SUM(G29:G32) -> 0 | H28: =SUM(H29:H32) -> 0 | I28: =SUM(I29:I32) -> 0 | J28: =SUM(J29:J32) -> 0 | K28: =SUM(K29:K32) -> 0 | L28: =SUM(L29:L32) -> 0 | M28: =(IF($E28<>0,$M$2,IF($L28<>0,$M$2,"")))
A29: 30 | C29: 201 | D29: корпоративен данък от нефинансови предприятия | E29: =F29+G29+H29 -> 0 | F29: 0 | G29: 0 | H29: 0 | I29: 0 | J29: 0 | K29: 0 | L29: =I29+J29+K29 -> 0 | M29: =(IF($E29<>0,$M$2,IF($L29<>0,$M$2,"")))
A30: 35 | C30: 202 | D30: корпоративен данък от финансови институции | E30: =F30+G30+H30 -> 0 | F30: 0 | G30: 0 | H30: 0 | I30: 0 | J30: 0 | K30: 0 | L30: =I30+J30+K30 -> 0 | M30: =(IF($E30<>0,$M$2,IF($L30<>0,$M$2,"")))
A31: 40 | C31: 203 | D31: корпоративен данък от юридически лица с нестопанска цел | E31: =F31+G31+H31 -> 0 | F31: 0 | G31: 0 | H31: 0 | I31: 0 | J31: 0 | K31: 0 | L31: =I31+J31+K31 -> 0 | M31: =(IF($E31<>0,$M$2,IF($L31<>0,$M$2,"")))
A32: 45 | C32: 204 | D32: корпоративен данък от застрахователни дружества | E32: =F32+G32+H32 -> 0 | F32: 0 | G32: 0 | H32: 0 | I32: 0 | J32: 0 | K32: 0 | L32: =I32+J32+K32 -> 0 | M32: =(IF($E32<>0,$M$2,IF($L32<>0,$M$2,"")))
A33: 50 | B33: 400 | C33: Данъци върху дивидентите, ликвидационните дялове и доходите на местни и чуждестранни лица: | E33: =SUM(E34:E38) -> 0 | F33: =SUM(F34:F38) -> 0 | G33: =SUM(G34:G38) -> 0 | H33: =SUM(H34:H38) -> 0 | I33: =SUM(I34:I38) -> 0 | J33: =SUM(J34:J38) -> 0 | K33: =SUM(K34:K38) -> 0 | L33: =SUM(L34:L38) -> 0 | M33: =(IF($E33<>0,$M$2,IF($L33<>0,$M$2,"")))
A34: 55 | C34: 401 | D34: данък върху дивидентите и ликвидационните дялове на местни юридически лица | E34: =F34+G34+H34 -> 0 | F34: 0 | G34: 0 | H34: 0 | I34: 0 | J34: 0 | K34: 0 | L34: =I34+J34+K34 -> 0 | M34: =(IF($E34<>0,$M$2,IF($L34<>0,$M$2,"")))
A35: 56 | C35: 402 | D35: данък върху дивидентите и ликвидационните дялове на бюджетни предприятия | E35: =F35+G35+H35 -> 0 | F35: 0 | G35: 0 | H35: 0 | I35: 0 | J35: 0 | K35: 0 | L35: =I35+J35+K35 -> 0 | M35: =(IF($E35<>0,$M$2,IF($L35<>0,$M$2,"")))
A36: 57 | C36: 403 | D36: данък върху дивидентите и ликвидационните дялове на чуждестрани юридически лица | E36: =F36+G36+H36 -> 0 | F36: 0 | G36: 0 | H36: 0 | I36: 0 | J36: 0 | K36: 0 | L36: =I36+J36+K36 -> 0 | M36: =(IF($E36<>0,$M$2,IF($L36<>0,$M$2,"")))
A37: 58 | C37: 404 | D37: данък при източника върху доходи на чуждестранни юридически лица | E37: =F37+G37+H37 -> 0 | F37: 0 | G37: 0 | H37: 0 | I37: 0 | J37: 0 | K37: 0 | L37: =I37+J37+K37 -> 0 | M37: =(IF($E37<>0,$M$2,IF($L37<>0,$M$2,"")))
A38: 59 | C38: 411 | D38: данък върху дивидентите и ликвидационните дялове на физически лица | E38: =F38+G38+H38 -> 0 | F38: 0 | G38: 0 | H38: 0 | I38: 0 | J38: 0 | K38: 0 | L38: =I38+J38+K38 -> 0 | M38: =(IF($E38<>0,$M$2,IF($L38<>0,$M$2,"")))
A39: 65 | B39: 800 | C39: Осигурителни вноски | E39: =SUM(E40:E46) -> 0 | F39: =SUM(F40:F46) -> 0 | G39: =SUM(G40:G46) -> 0 | H39: =SUM(H40:H46) -> 0 | I39: =SUM(I40:I46) -> 0 | J39: =SUM(J40:J46) -> 0 | K39: =SUM(K40:K46) -> 0 | L39: =SUM(L40:L46) -> 0 | M39: =(IF($E39<>0,$M$2,IF($L39<>0,$M$2,"")))
A40: 70 | C40: 801 | D40: вноски за работници и служители от работодатели | E40: =F40+G40+H40 -> 0 | F40: 0 | G40: 0 | H40: 0 | I40: 0 | J40: 0 | K40: 0 | L40: =I40+J40+K40 -> 0 | M40: =(IF($E40<>0,$M$2,IF($L40<>0,$M$2,"")))
...

Sheet NALICHNOST
A1: 1
B2: Община: | C2: =+OTCHET!B12 -> Велико Търново | D2: РАЗШИФРОВКА НА НАЛИЧНИТЕ СРЕДСТВА ПО БЮДЖЕТА НА ОБЩИНАТА И ПРЕВОДИТЕ В ПРОЦЕС
B3: Код по ЕБК: | C3: =+OTCHET!F12 -> 5401 | D3: НА СЕТЪЛМЕНТ, ПО ИЗТОЧНИЦИ (В ЛВ.)
B4: Разшифровка на наличностите в края на периода и преводите в процес на сетълмент (от §95-07 до §95-13; §96-07 - §96-09) в касовия отчет на бюджета на общината към | C4: =+OTCHET!F9 -> 45961
C5: =+IF(C35=0,"","НЕРАВНЕНИЕ!") -> НЕРАВНЕНИЕ! | D5: =+IF(D35=0,"","НЕРАВНЕНИЕ!") | E5: =+IF(E35=0,"","НЕРАВНЕНИЕ!") | F5: =+IF(F35=0,"","НЕРАВНЕНИЕ!") | I5: =+IF(I35=0,"","НЕРАВНЕНИЕ!") -> НЕРАВНЕНИЕ! | J5: =+IF(J35=0,"","НЕРАВНЕНИЕ!") | L5: (в лева)
B6: Наличност в края на периода и преводи в процес на сетълмент (§95-07 - §95-13; §96-07 - §96-09) в лв.: | C6: Държавни дейности | D6: в т. ч. | E6: Местни дейности | F6: в т. ч. | G6: Дофинансиране | H6: в т. ч. | I6: Всичко | J6: в т. ч. | K6: Очакван момент на изразходване на средствата: | L6: Предназначение на средствата:
D7: по срочни депозити | F7: по срочни депозити | H7: по срочни депозити | J7: по срочни депозити
A8: 999 | B8: Всичко наличности по бюджета, в това число от: | C8: =(OTCHET!I576+OTCHET!I577+OTCHET!I578+OTCHET!I579+OTCHET!I580+OTCHET!I581+OTCHET!I582+OTCHET!I592+OTCHET!I593)*(-1) -> 933011 | D8: =(OTCHET!I578+OTCHET!I579+OTCHET!I593)*(-1) -> 0 | E8: =(OTCHET!J576+OTCHET!J577+OTCHET!J578+OTCHET!J579+OTCHET!J580+OTCHET!J581+OTCHET!J582+OTCHET!J592+OTCHET!J593)*(-1) -> 0 | F8: =(OTCHET!J578+OTCHET!J579+OTCHET!J593)*(-1) -> 0 | G8: 0 | H8: 0 | I8: =+C8+E8 -> 933011 | J8: =+D8+F8 -> 0 | K8: x | L8: x
A9: 1000 | B9: I. Наличности от приходи, помощи и дарения | C9: =+C10+C12 -> 0 | D9: =+D10+D12 -> 0 | E9: =+E10+E12 -> 0 | F9: =+F10+F12 -> 0 | G9: =+G10+G12 -> 0 | H9: =+H10+H12 -> 0 | I9: =+C9+E9 -> 0 | J9: =+D9+F9 -> 0 | K9: x | L9: x
A10: 1100 | B10: 1. Приходи, в т. ч.: | G10: 0 | H10: 0 | I10: =+C10+E10 -> 0 | J10: =+D10+F10 -> 0
A11: 1200 | B11: - от такса за битови отпадъци | G11: 0 | H11: 0 | I11: =+C11+E11 -> 0 | J11: =+D11+F11 -> 0
A12: 1210 | B12: 2. Помощи и дарения | G12: 0 | H12: 0 | I12: =+C12+E12 -> 0 | J12: =+D12+F12 -> 0
A13: 2000 | B13: II. Наличности от трансфери между бюджета на бюджетната организация и ЦБ (от §31-00), предоставени през текущата година, в т. ч. от: | C13: =+C14+C16+C17+C18+C15 -> 0 | D13: =+D14+D16+D17+D18+D15 -> 0 | E13: =+E14+E16+E17+E18+E15 -> 0 | F13: =+F14+F16+F17+F18+F15 -> 0 | G13: =+G14+G16+G17+G18+G15 -> 0 | H13: =+H14+H16+H17+H18+H15 -> 0 | I13: =+C13+E13 -> 0 | J13: =+D13+F13 -> 0 | K13: x | L13: x
A14: 2100 | B14: 1. обща субсидия и други трансфери за държавни дейности | G14: 0 | H14: 0 | I14: =+C14+E14 -> 0 | J14: =+D14+F14 -> 0
A15: 2200 | B15: 2. обща изравнителна субсидия | G15: 0 | H15: 0 | I15: =+C15+E15 -> 0 | J15: =+D15+F15 -> 0
A16: 2300 | B16: 3. трансфер за зимно поддържане и снегопочистване | G16: 0 | H16: 0 | I16: =+C16+E16 -> 0 | J16: =+D16+F16 -> 0
A17: 2400 | B17: 4. целева субсидия за капиталови разходи | G17: 0 | H17: 0 | I17: =+C17+E17 -> 0 | J17: =+D17+F17 -> 0
A18: 2500 | B18: 5. трансфери за други целеви разходи от ЦБ | G18: 0 | H18: 0 | I18: =+C18+E18 -> 0 | J18: =+D18+F18 -> 0
A19: 3000 | B19: III. Наличности от трансфери между бюджети и сметки за средства от Европейския съюз (§61, §62 и §64 от ЕБК) | G19: 0 | H19: 0 | I19: =+C19+E19 -> 0 | J19: =+D19+F19 -> 0
A20: 4000 | B20: IV. Наличности от временни безлихвени заеми (§74-78 от ЕБК) | G20: 0 | H20: 0 | I20: =+C20+E20 -> 0 | J20: =+D20+F20 -> 0
A21: 5000 | B21: V. Наличности от дълг ( заеми и емисии на ЦК) | G21: 0 | H21: 0 | I21: =+C21+E21 -> 0 | J21: =+D21+F21 -> 0
A22: 6000 | B22: VI. Наличности по програми и проекти по т. 82 от ДДС № 09/2020 г., за които се прилагат банкови бюджетни сметки и се отчитат на касова основа в отчетна група "Бюджет" чрез прилагане на §88-03 от ЕБК | G22: 0 | H22: 0 | I22: =+C22+E22 -> 0 | J22: =+D22+F22 -> 0
A23: 7000 | B23: VII. Наличности от възстановени отчисления от РИОСВ | G23: 0 | H23: 0 | I23: =+C23+E23 -> 0 | J23: =+D23+F23 -> 0
A24: 8000 | B24: VIII. Наличности от преходен остатък, в т. ч.: | C24: =+C25+C26+C32 -> 0 | D24: =+D25+D26+D32 -> 0 | E24: =+E25+E26+E32 -> 0 | F24: =+F25+F26+F32 -> 0 | G24: =+G25+G26+G32 -> 0 | H24: =+H25+H26+H32 -> 0 | I24: =+C24+E24 -> 0 | J24: =+D24+F24 -> 0 | K24: x | L24: x
A25: 8100 | B25: 1. Преходен остатък от приходи, помощи и дарения | G25: 0 | H25: 0 | I25: =+C25+E25 -> 0 | J25: =+D25+F25 -> 0
A26: 8200 | B26: 2. Преходен остатък от предоставени трансфери от ЦБ, в т. ч. от: | C26: =+C27+C28+C29+C30+C31 -> 0 | D26: =+D27+D28+D29+D30+D31 -> 0 | E26: =+E27+E28+E29+E30+E31 -> 0 | F26: =+F27+F28+F29+F30+F31 -> 0 | G26: =+G27+G28+G29+G30+G31 -> 0 | H26: =+H27+H28+H29+H30+H31 -> 0 | I26: =+C26+E26 -> 0 | J26: =+D26+F26 -> 0 | K26: x | L26: x
A27: 8210 | B27: - обща субсидия и други трансфери за държавни дейности | G27: 0 | H27: 0 | I27: =+C27+E27 -> 0 | J27: =+D27+F27 -> 0
A28: 8220 | B28: - обща изравнителна субсидия | G28: 0 | H28: 0 | I28: =+C28+E28 -> 0 | J28: =+D28+F28 -> 0
A29: 8230 | B29: - трансфер за зимно поддържане и снегопочистване | G29: 0 | H29: 0 | I29: =+C29+E29 -> 0 | J29: =+D29+F29 -> 0
A30: 8240 | B30: - целева субсидия за капиталови разходи | G30: 0 | H30: 0 | I30: =+C30+E30 -> 0 | J30: =+D30+F30 -> 0
A31: 8250 | B31: - трансфери за други целеви разходи от ЦБ | G31: 0 | H31: 0 | I31: =+C31+E31 -> 0 | J31: =+D31+F31 -> 0
A32: 8300 | B32: 3. Други налични средства от преходен остатък | G32: 0 | H32: 0 | I32: =+C32+E32 -> 0 | J32: =+D32+F32 -> 0
A33: 9999 | B33: Общо: | C33: =+C9+C13+C19+C20+C21+C22+C23+C24 -> 0 | D33: =+D9+D13+D19+D20+D21+D22+D23+D24 -> 0 | E33: =+E9+E13+E19+E20+E21+E22+E23+E24 -> 0 | F33: =+F9+F13+F19+F20+F21+F22+F23+F24 -> 0 | G33: =+G9+G13+G19+G20+G21+G22+G23+G24 -> 0 | H33: =+H9+H13+H19+H20+H21+H22+H23+H24 -> 0 | I33: =+C33+E33 -> 0 | J33: =+D33+F33 -> 0 | K33: x | L33: x
A35: 99999 | B35: контрола: | C35: =+ABS(C8)-ABS(C33) -> 933011 | D35: =+ABS(D8)-ABS(D33) -> 0 | E35: =+ABS(E8)-ABS(E33) -> 0 | F35: =+ABS(F8)-ABS(F33) -> 0 | G35: 0 | H35: 0 | I35: =+ABS(I8)-ABS(I33) -> 933011 | J35: =+ABS(J8)-ABS(J33) -> 0
A36: end

Sheet OCHAKVANO
A1: 1 | B1: =CONCATENATE("ОЧАКВАНО ИЗПЪЛНЕНИЕ НА БЮДЖЕТА за ", OTCHET!$C$3, " година") -> ОЧАКВАНО ИЗПЪЛНЕНИЕ НА БЮДЖЕТА за 2025 година
A2: 1 | B2: =CONCATENATE("на ОБЩИНА : ",$C$2) -> на ОБЩИНА : Велико Търново | C2: =OTCHET!$B$12 -> Велико Търново
B3: =CONCATENATE("Код по ЕБК : ",$C$3) -> Код по ЕБК : 5401 | C3: =OTCHET!$F$12 -> 5401
A4: 1 | B4: ПОКАЗАТЕЛИ ОТ ЕБК | C4: §§ | D4: =CONCATENATE("Уточнен план за ", OTCHET!$C$3, " г.") -> Уточнен план за 2025 г. | E4: Отчет към: | F4: =CONCATENATE("Очаквано изпълнение на бюджета по месеци за ",OTCHET!$C$3, "г. (месечно изменение)") -> Очаквано изпълнение на бюджета по месеци за 2025г. (месечно изменение) | O4: =CONCATENATE("Очаквано изпълнение за ", OTCHET!$C$3, " г. – общо") -> Очаквано изпълнение за 2025 г. – общо
A5: 1 | D5: 0 | E5: 3 | F5: 4 | G5: 5 | H5: 6 | I5: 7 | J5: 8 | K5: 9 | L5: 10 | M5: 11 | N5: 12
A6: 1 | E6: =OTCHET!$F$10 -> октомври | F6: април | G6: май | H6: юни | I6: юли | J6: август | K6: септември | L6: октомври | M6: ноември | N6: декември | O6: (сбора от к.2 до к.11)
A7: 1 | D7: (1) | E7: (2) | F7: (3) | G7: (4) | H7: (5) | I7: (6) | J7: (7) | K7: (8) | L7: (9) | M7: (10) | N7: (11)
A8: 1 | B8: РАЗДЕЛ I. ПРИХОДИ, ПОМОЩИ И ДАРЕНИЯ (от §§01 до 48) | C8: 9990 | D8: =OTCHET!E167 -> 18052 | E8: =OTCHET!L167 -> 18052 | M8: 0 | N8: 0 | O8: =IF($E$6=$F$6,SUM($E8,$G8:$N8),IF($E$6=$G$6,SUM($E8,$H8:$N8),IF($E$6=$H$6,SUM($E8,$I8:$N8),IF($E$6=$I$6,SUM($E8,$J8:$N8),IF($E$6=$J$6,SUM($E8,$K8:$N8),IF($E$6=$K$6,SUM($E8,$L8:$N8),IF($E$6=$L$6,SUM($E8,$M8:$N8),IF($E$6=$M$6,$E8+$N8,E8+F8+G8+H8+I8+J8+K8+L8+M8+N8)))))))) -> 18052
A9: 1 | B9: в т.ч.:
B10: Данък при придобиване на имущество по дарения и възмезден начин | C10: 1304 | D10: =OTCHET!$E$56 -> 0 | E10: =OTCHET!$L$56 -> 0 | O10: =SUM(E10:N10) -> 0
B11: Приходи и доходи от собственост | C11: 2400 | D11: =OTCHET!$E$74 -> 0 | E11: =OTCHET!$L$74 -> 0 | M11: 0 | N11: 0 | O11: =SUM(E11:N11) -> 0
B12: Държавни такси | C12: 2500 | D12: =OTCHET!$E$90 -> 0 | E12: =OTCHET!$L$90 -> 0 | O12: =SUM(E12:N12) -> 0
A13: 0 | B13: Постъпления от продажба на нефинансови активи | C13: 4000 | D13: =OTCHET!$E$123 -> 0 | E13: =OTCHET!$L$123 -> 0 | O13: =SUM(E13:N13) -> 0
A14: 0 | B14: Приходи от концесии | C14: 4100 | D14: =OTCHET!$E$135 -> 0 | E14: =OTCHET!$L$135 -> 0 | O14: =SUM(E14:N14) -> 0
A15: 0 | B15: Помощи и дарения от страната | C15: 4500 | D15: =OTCHET!$E$137 -> 18052 | E15: =OTCHET!$L$137 -> 18052 | M15: 0 | N15: 0 | O15: =SUM(E15:N15) -> 18052
A16: 0 | B16: Помощи и дарения от чужбина | C16: 4600 | D16: =OTCHET!$E$140 -> 0 | E16: =OTCHET!$L$140 -> 0 | O16: =SUM(E16:N16) -> 0
A17: 0 | B17: Получени чрез небюджетни предприятия средства от КФП по международни програми | C17: 4700 | D17: =OTCHET!$E$149 -> 0 | E17: =OTCHET!$L$149 -> 0 | O17: =SUM(E17:N17) -> 0
A18: 0 | B18: Разпределени към администратори от чужбина средства по международни програми и договори (-) | C18: 4800 | D18: =OTCHET!$E$158 -> 0 | E18: =OTCHET!$L$158 -> 0 | O18: =SUM(E18:N18) -> 0
A19: 1 | B19: РАЗДЕЛ II РАЗХОДИ (§§ 01 до 57) | C19: 9991 | D19: =OTCHET!E304 -> 5133059 | E19: =OTCHET!L304 -> 3525939 | M19: 0 | N19: 0 | O19: =IF($E$6=$F$6,SUM($E19,$G19:$N19),IF($E$6=$G$6,SUM($E19,$H19:$N19),IF($E$6=$H$6,SUM($E19,$I19:$N19),IF($E$6=$I$6,SUM($E19,$J19:$N19),IF($E$6=$J$6,SUM($E19,$K19:$N19),IF($E$6=$K$6,SUM($E19,$L19:$N19),IF($E$6=$L$6,SUM($E19,$M19:$N19),IF($E$6=$M$6,$E19+$N19,E19+F19+G19+H19+I19+J19+K19+L19+M19+N19)))))))) -> 3525939
B20: в т ч.:
B21: Разходи за лихви | C21: 2000 | D21: =+D22+D23 -> 0 | E21: =+E22+E23 -> 0 | F21: =+F22+F23 -> 0 | G21: =+G22+G23 -> 0 | H21: =+H22+H23 -> 0 | I21: =+I22+I23 -> 0 | J21: =+J22+J23 -> 0 | K21: =+K22+K23 -> 0 | ... N21: =+N22+N23 -> 0 | O21: =IF($E$6=$F$6,SUM($E21,$G21:$N21),IF($E$6=$G$6,SUM($E21,$H21:$N21),IF($E$6=$H$6,SUM($E21,$I21:$N21),IF($E$6=$I$6,SUM($E21,$J21:$N21),IF($E$6=$J$6,SUM($E21,$K21:$N21),IF($E$6=$K$6,SUM($E21,$L21:$N21),IF($E$6=$L$6,SUM($E21,$M21:$N21),IF($E$6=$M$6,$E21+$N21,E21+F21+G21+H21+I21+J21+K21+L21+M21+N21)))))))) -> 0
B22: Вътрешни (§21-00; §22-00; §29-00) | C22: 2100 | D22: =SUM(OTCHET!$E$227,OTCHET!$E$233,OTCHET!$E$243) -> 0 | E22: =SUM(OTCHET!$L$227,OTCHET!$L$233,OTCHET!$L$243) -> 0 | O22: =SUM(E22:N22) -> 0
B23: Външни (§25-00; §26-00; §27-00, §28-00) | C23: 2600 | D23: =SUM(OTCHET!$E$236,OTCHET!$E$237,OTCHET!$E$238,OTCHET!$E$239) -> 0 | E23: =SUM(OTCHET!$L$236,OTCHET!$L$237,OTCHET!$L$238,OTCHET!$L$239) -> 0 | O23: =SUM(E23:N23) -> 0
A24: 0 | B24: Текущи трансфери, обезщетения и помощи за домакинствата | C24: 4200 | D24: =OTCHET!$E$261 -> 3447 | E24: =OTCHET!$L$261 -> 1936 | M24: 0 | N24: 0 | O24: =SUM(E24:N24) -> 1936
A25: 0 | B25: Субсидии и др.текущи трансфери за нефинансови предприятия | C25: 4300 | D25: =OTCHET!$E$268 -> 0 | E25: =OTCHET!$L$268 -> 0 | O25: =SUM(E25:N25) -> 0
A26: 0 | B26: Основен ремонт на дълготрайни материални активи | C26: 5100 | D26: =OTCHET!$E$278 -> 79030 | E26: =OTCHET!$L$278 -> 79030 | M26: 0 | N26: 0 | O26: =SUM(E26:N26) -> 79030
A27: 0 | B27: Придобиване на дълготрайни материални активи | C27: 5200 | D27: =OTCHET!$E$279 -> 34576 | E27: =OTCHET!$L$279 -> 34576 | M27: 0 | N27: 0 | O27: =SUM(E27:N27) -> 34576
A28: 0 | B28: Придобиване на нематериални дълготрайни активи | C28: 5300 | D28: =OTCHET!$E$287 -> 0 | E28: =OTCHET!$L$287 -> 0 | O28: =SUM(E28:N28) -> 0
A29: 0 | B29: Придобиване на земя | C29: 5400 | D29: =OTCHET!$E$290 -> 0 | E29: =OTCHET!$L$290 -> 0 | O29: =SUM(E29:N29) -> 0
A30: 0 | B30: Капиталови трансфери | C30: 5500 | D30: =OTCHET!$E$291 -> 0 | E30: =OTCHET!$L$291 -> 0 | O30: =SUM(E30:N30) -> 0
A31: 1 | B31: РАЗДЕЛ III БЮДЖЕТНИ ВЗАИМООТНОШЕНИЯ - трансфери и временни безлихвени заеми (&&31 до 78) | C31: 9992 | D31: =OTCHET!E422+OTCHET!E432 -> 5115007 | E31: =OTCHET!L422+OTCHET!L432 -> 4394126 | M31: 0 | N31: 0 | O31: =IF($E$6=$F$6,SUM($E31,$G31:$N31),IF($E$6=$G$6,SUM($E31,$H31:$N31),IF($E$6=$H$6,SUM($E31,$I31:$N31),IF($E$6=$I$6,SUM($E31,$J31:$N31),IF($E$6=$J$6,SUM($E31,$K31:$N31),IF($E$6=$K$6,SUM($E31,$L31:$N31),IF($E$6=$L$6,SUM($E31,$M31:$N31),IF($E$6=$M$6,$E31+$N31,E31+F31+G31+H31+I31+J31+K31+L31+M31+N31)))))))) -> 4394126
A32: 1 | B32: в т.ч.:
A33: 1 | B33: Временни безлихвени заеми между бюджети и сметки за средствата от Европейския съюз (нето) | C33: 7600 | D33: =OTCHET!$E$427 -> 18446 | E33: =OTCHET!$L$427 -> 18446 | M33: 0 | N33: 0 | O33: =SUM(E33:N33) -> 18446
A34: 1 | B34: БЮДЖЕТНО САЛДО (дефицит/излишък) (I. - ІІ.+ ІІІ.) | D34: =+D8+D31-D19 -> 0 | E34: =+E8+E31-E19 -> 886239 | F34: =+F8+F31-F19 -> 0 | G34: =+G8+G31-G19 -> 0 | H34: =+H8+H31-H19 -> 0 | I34: =+I8+I31-I19 -> 0 | J34: =+J8+J31-J19 -> 0 | K34: =+K8+K31-K19 -> 0 | ... O34: =+O8+O31-O19 -> 886239
A35: 1 | B35: контрола | D35: =+D34+D36 -> 0 | E35: =+E34+E36 -> 0 | F35: =+F34+F36 -> 0 | G35: =+G34+G36 -> 0 | H35: =+H34+H36 -> 0 | I35: =+I34+I36 -> 0 | J35: =+J34+J36 -> 0 | K35: =+K34+K36 -> 0 | ... O35: =+O34+O36 -> 0
A36: 1 | B36: РАЗДЕЛ IV. ФИНАНСИРАНЕ НА БЮДЖЕТНОТО САЛДО | C36: 9993 | D36: =OTCHET!E600 -> 0 | E36: =OTCHET!L600 -> -886239 | M36: 0 | N36: 0 | O36: =IF($E$6=$F$6,SUM($E36,$G36:$N36),IF($E$6=$G$6,SUM($E36,$H36:$N36),IF($E$6=$H$6,SUM($E36,$I36:$N36),IF($E$6=$I$6,SUM($E36,$J36:$N36),IF($E$6=$J$6,SUM($E36,$K36:$N36),IF($E$6=$K$6,SUM($E36,$L36:$N36),IF($E$6=$L$6,SUM($E36,$M36:$N36),IF($E$6=$M$6,$E36+$N36,E36+F36+G36+H36+I36+J36+K36+L36+M36+N36)))))))) -> -886239
A37: 1 | B37: в т.ч. :
A38: 0 | B38: Придобиване на дялове, акции и съучастия (нето) | C38: 7000 | D38: =OTCHET!$E$464 -> 0 | E38: =OTCHET!$L$464 -> 0 | O38: =SUM(E38:N38) -> 0
A39: 0 | B39: Предоставена възмездна финансова помощ (нето) | C39: 7200 | D39: =OTCHET!$E$471 -> 0 | E39: =OTCHET!$L$471 -> 0 | O39: =SUM(E39:N39) -> 0
A40: 0 | B40: Заеми от чужбина - нето (+/-) | C40: 8000 | D40: =+D41+D42 -> 0 | E40: =+E41+E42 -> 0 | F40: =+F41+F42 -> 0 | G40: =+G41+G42 -> 0 | H40: =+H41+H42 -> 0 | I40: =+I41+I42 -> 0 | J40: =+J41+J42 -> 0 | K40: =+K41+K42 -> 0 | ... N40: =+N41+N42 -> 0 | O40: =IF($E$6=$F$6,SUM($E40,$G40:$N40),IF($E$6=$G$6,SUM($E40,$H40:$N40),IF($E$6=$H$6,SUM($E40,$I40:$N40),IF($E$6=$I$6,SUM($E40,$J40:$N40),IF($E$6=$J$6,SUM($E40,$K40:$N40),IF($E$6=$K$6,SUM($E40,$L40:$N40),IF($E$6=$L$6,SUM($E40,$M40:$N40),IF($E$6=$M$6,$E40+$N40,E40+F40+G40+H40+I40+J40+K40+L40+M40+N40)))))))) -> 0
...

Sheet list
A1: Name: | B1: SMETKA
A2: 0 | B2: ОТЧЕТНИ ДАННИ ПО ЕБК ЗА ИЗПЪЛНЕНИЕТО НА БЮДЖЕТА | C2: ОТЧЕТ ЗА КАСОВОТО ИЗПЪЛНЕНИЕ НА БЮДЖЕТА
A3: 33 | B3: ОТЧЕТНИ ДАННИ ПО ЕБК ЗА СМЕТКИТЕ ЗА ЧУЖДИ СРЕДСТВА | C3: ОТЧЕТ ЗА КАСОВОТО ИЗПЪЛНЕНИЕ НА СМЕТКИТЕ ЗА ЧУЖДИ СРЕДСТВА
A4: 42 | B4: ОТЧЕТНИ ДАННИ ПО ЕБК ЗА СМЕТКИТЕ ЗА СРЕДСТВАТА ОТ ЕВРОПЕЙСКИЯ СЪЮЗ - РА | C4: ОТЧЕТ ЗА КАСОВОТО ИЗПЪЛНЕНИЕ НА СМЕТКИТЕ ЗА СРЕДСТВАТА ОТ ЕВРОПЕЙСКИЯ СЪЮЗ - РА
A5: 96 | B5: ОТЧЕТНИ ДАННИ ПО ЕБК ЗА СМЕТКИТЕ ЗА СРЕДСТВАТА ОТ ЕВРОПЕЙСКИЯ СЪЮЗ - ДЕС | C5: ОТЧЕТ ЗА КАСОВОТО ИЗПЪЛНЕНИЕ НА СМЕТКИТЕ ЗА СРЕДСТВАТА ОТ ЕВРОПЕЙСКИЯ СЪЮЗ - ДЕС
A6: 97 | B6: ОТЧЕТНИ ДАННИ ПО ЕБК ЗА СМЕТКИТЕ ЗА СРЕДСТВАТА ОТ ЕВРОПЕЙСКИЯ СЪЮЗ - ДМП | C6: ОТЧЕТ ЗА КАСОВОТО ИЗПЪЛНЕНИЕ НА СМЕТКИТЕ ЗА СРЕДСТВАТА ОТ ЕВРОПЕЙСКИЯ СЪЮЗ - ДМП
A7: 98 | B7: ОТЧЕТНИ ДАННИ ПО ЕБК ЗА СМЕТКИТЕ ЗА СРЕДСТВАТА ОТ ЕВРОПЕЙСКИЯ СЪЮЗ - КСФ | C7: ОТЧЕТ ЗА КАСОВОТО ИЗПЪЛНЕНИЕ НА СМЕТКИТЕ ЗА СРЕДСТВАТА ОТ ЕВРОПЕЙСКИЯ СЪЮЗ - КСФ
A10: Name: | B10: "EBK_DEIN" и "EBK_DEIN2"
B11: ИЗБЕРЕТЕ ДЕЙНОСТ
A12: 1101 | B12: 101 Централни държавни органи | C12: 1101
A13: 1103 | B13: 103 Централни държавни органи по образованието | C13: 1103
A14: 1104 | B14: 104 Централни държавни органи по здравеопазването | C14: 1104
A15: 1105 | B15: 105 Централни държавни органи по социалното осигуряването | C15: 1105
A16: 1106 | B16: 106 Централни държавни органи по регионалното развитие и благоустройство | C16: 1106
A17: 1107 | B17: 107 Централни държавни органи по културата и спорта | C17: 1107
A18: 1108 | B18: 108 Централни държавни органи по икономическите дейности и услуги | C18: 1108
A19: 1111 | B19: 111 Контролни органи | C19: 1111
A20: 1115 | B20: 115 Управление, контрол и регулиране на външните работи | C20: 1115
A21: 1116 | B21: 116 Посолства, консулства, представителства и мисии в чужбина | C21: 1116
A22: 1117 | B22: 117 Държавни и общински служби и дейности по изборите | C22: 1117
A23: 1121 | B23: 121 Областни администрации | C23: 1121
... A277: 9998 | B277: 998 Резерв | C277: 9998
A282: Name: | B282: "OP_LIST" и "OP_LIST2"
A283: ИЗБЕРЕТЕ ОПЕРАТИВНА ПРОГРАМА
A284: ПЕРИОД 2014-2020
A285: КФ - ОП "Транспорт и транспортна инфраструктура" | B285: 98111 | C285: ПЕРИОД 2014-2020
A286: КФ - ОП "Околна среда" | B286: 98112 | C286: ПЕРИОД 2014-2020
A287: ЕФРР - ОП "Транспорт и транспортна инфраструктура" | B287: 98211 | C287: ПЕРИОД 2014-2020
A288: ЕФРР - ОП "Региони в растеж" | B288: 98212 | C288: ПЕРИОД 2014-2020
A289: ЕФРР - ОП "Наука и образование за интелигентен растеж" | B289: 98213 | C289: ПЕРИОД 2014-2020
A290: ЕФРР - ОП "Иновации и конкурентоспособност " | B290: 98214 | C290: ПЕРИОД 2014-2020
A291: ЕФРР - ОП "Околна среда" | B291: 98215 | C291: ПЕРИОД 2014-2020
A292: ЕФРР - ОП "Инициатива за малки и средни предприятия" | B292: 98224 | C292: ПЕРИОД 2014-2020
A293: ЕСФ - ОП "Развитие на човешките ресурси" | B293: 98311 | C293: ПЕРИОД 2014-2020
A294: ЕСФ - ОП "Добро управление" | B294: 98312 | C294: ПЕРИОД 2014-2020
A295: ЕСФ - ОП "Наука и образование за интелигентен растеж" | B295: 98313 | C295: ПЕРИОД 2014-2020
A296: ОП "Фонд за европейско подпомагане на най-нуждаещите се лица" | B296: 98315 | C296: ПЕРИОД 2014-2020
A297: ПЕРИОД 2007-2013
A298: КФ - ОП "ТРАНСПОРТ" | B298: 98101 | C298: ПЕРИОД 2007-2013
A299: КФ - ОП "ОКОЛНА СРЕДА" /2007-2013/ | B299: 98102 | C299: ПЕРИОД 2007-2013
...

Sheet INF
A1: step | B1: 140
A2: gotocell | B2: c786
A3: nextcell | B3: b1349
A4: INF copyrf | B4: i12:u152
A5: dejKN
B8: d618
A11: Step:
A12: 1 | T12: =(IF($E148<>0,$M$2,IF($L148<>0,$M$2,"")))
A13: 2 | T13: =(IF($E148<>0,$M$2,IF($L148<>0,$M$2,"")))
A14: 3 | I14: =$B$7 -> 0 | T14: =(IF($E148<>0,$M$2,IF($L148<>0,$M$2,"")))
A15: 4 | L15: за периода от | M15: до | O15: II.1. РАЗХОДИ ПО ДЕЙНОСТИ | T15: =(IF($E148<>0,$M$2,IF($L148<>0,$M$2,"")))
A16: 5 | I16: =$B$9 -> 0 | L16: =$E$9 -> 0 | M16: =$F$9 -> 0 | T16: =(IF($E148<>0,$M$2,IF($L148<>0,$M$2,"")))
A17: 6 | I17: =$B$10 -> 0 | T17: =(IF($E148<>0,$M$2,IF($L148<>0,$M$2,"")))
A18: 7 | T18: =(IF($E148<>0,$M$2,IF($L148<>0,$M$2,"")))
A19: 8 | I19: =$B$12 -> 0 | L19: код по ЕБК: | M19: =$F$12 -> 0 | T19: =(IF($E148<>0,$M$2,IF($L148<>0,$M$2,"")))
A20: 9 | I20: =$B$13 -> 0 | T20: =(IF($E148<>0,$M$2,IF($L148<>0,$M$2,"")))
A21: 10 | K21: ФИНАНСОВО-ПРАВНА ФОРМА | L21: =$E$15 -> 0 | M21: =$F$15 -> 0 | T21: =(IF($E148<>0,$M$2,IF($L148<>0,$M$2,"")))
A22: 11 | S22: (в лева) | T22: =(IF($E148<>0,$M$2,IF($L148<>0,$M$2,"")))
A23: 12 | K23: II.1. РАЗХОДИ ПО ДЕЙНОСТИ | L23: =CONCATENATE("Уточнен план ",$C$3) -> Уточнен план | P23: =CONCATENATE("Отчет ",$C$3) -> Отчет | T23: =(IF($E148<>0,$M$2,IF($L148<>0,$M$2,"")))
A24: 13 | I24: §§ | J24: под-§§ | K24: НАИМЕНОВАНИЯ НА ПАРАГРАФИТЕ И ПОДПАРАГРАФИТЕ | L24: =$E$20 -> 0 | M24: =$F$20 -> 0 | N24: =$G$20 -> 0 | O24: =$H$20 -> 0 | P24: =$I$20 -> 0 | Q24: =$J$20 -> 0 | R24: =$K$20 -> 0 | S24: =$L$20 -> 0 | T24: =(IF($E148<>0,$M$2,IF($L148<>0,$M$2,"")))
A25: 14 | K25: 02 ¦ | L25: =$E$21 -> 0 | M25: =$F$21 -> 0 | N25: =$G$21 -> 0 | O25: =$H$21 -> 0 | P25: =$I$21 -> 0 | Q25: =$J$21 -> 0 | R25: =$K$21 -> ФИНАНСОВО-ПРАВНА ФОРМА | S25: =$L$21 -> 0 | T25: =(IF($E148<>0,$M$2,IF($L148<>0,$M$2,"")))
A26: 15 | J26: =VLOOKUP(K26,OP_LIST2,2,FALSE) -> #N/A | T26: =(IF($E148<>0,$M$2,IF($L148<>0,$M$2,"")))
A27: 16 | I27: оп/дейност | J27: =VLOOKUP(K28,EBK_DEIN2,2,FALSE) -> 0 | K27: <------ ДЕЙНОСТ - код по ЕБК | T27: =(IF($E148<>0,$M$2,IF($L148<>0,$M$2,"")))
A28: 17 | J28: =+J27 -> 0 | K28: ИЗБЕРЕТЕ ДЕЙНОСТ | T28: =(IF($E148<>0,$M$2,IF($L148<>0,$M$2,"")))
A29: 18 | K29: (наименование на дейността) | T29: =(IF($E148<>0,$M$2,IF($L148<>0,$M$2,"")))
A30: 19 | I30: 100 | J30: Заплати и възнаграждения за персонала, нает по трудови и служебни правоотношения | L30: =SUM(L31:L32) -> 0 | M30: =SUM(M31:M32) -> 0 | N30: =SUM(N31:N32) -> 0 | O30: =SUM(O31:O32) -> 0 | P30: =SUM(P31:P32) -> 0 | Q30: =SUM(Q31:Q32) -> 0 | R30: =SUM(R31:R32) -> 0 | S30: =SUM(S31:S32) -> 0 | T30: =(IF($E30<>0,$M$2,IF($L30<>0,$M$2,"")))
A31: 20 | J31: 101 | K31: заплати и възнаграждения на персонала нает по трудови правоотношения | L31: =M31+N31+O31 -> 0 | S31: =P31+Q31+R31 -> 0 | T31: =(IF($E31<>0,$M$2,IF($L31<>0,$M$2,"")))
A32: 21 | J32: 102 | K32: заплати и възнаграждения на персонала нает по служебни правоотношения | L32: =M32+N32+O32 -> 0 | S32: =P32+Q32+R32 -> 0 | T32: =(IF($E32<>0,$M$2,IF($L32<>0,$M$2,"")))
A33: 22 | I33: 200 | J33: Други възнаграждения и плащания за персонала | L33: =SUM(L34:L38) -> 0 | M33: =SUM(M34:M38) -> 0 | N33: =SUM(N34:N38) -> 0 | O33: =SUM(O34:O38) -> 0 | P33: =SUM(P34:P38) -> 0 | Q33: =SUM(Q34:Q38) -> 0 | R33: =SUM(R34:R38) -> 0 | S33: =SUM(S34:S38) -> 0 | T33: =(IF($E33<>0,$M$2,IF($L33<>0,$M$2,"")))
A34: 23 | J34: 201 | K34: за нещатен персонал нает по трудови правоотношения | L34: =M34+N34+O34 -> 0 | S34: =P34+Q34+R34 -> 0 | T34: =(IF($E34<>0,$M$2,IF($L34<>0,$M$2,"")))
A35: 24 | J35: 202 | K35: за персонала по извънтрудови правоотношения | L35: =M35+N35+O35 -> 0 | S35: =P35+Q35+R35 -> 0 | T35: =(IF($E35<>0,$M$2,IF($L35<>0,$M$2,"")))
A36: 25 | J36: 205 | K36: изплатени суми от СБКО за облекло и други на персонала, с характер на възнаграждение | L36: =M36+N36+O36 -> 0 | S36: =P36+Q36+R36 -> 0 | T36: =(IF($E36<>0,$M$2,IF($L36<>0,$M$2,"")))
A37: 26 | J37: 208 | K37: обезщетения за персонала, с характер на възнаграждение | L37: =M37+N37+O37 -> 0 | S37: =P37+Q37+R37 -> 0 | T37: =(IF($E37<>0,$M$2,IF($L37<>0,$M$2,"")))
A38: 27 | J38: 209 | K38: другиплащания и възнаграждения | L38: =M38+N38+O38 -> 0 | S38: =P38+Q38+R38 -> 0 | T38: =(IF($E38<>0,$M$2,IF($L38<>0,$M$2,"")))
A39: 28 | I39: 500 | J39: Задължителни осигурителни вноски от работодатели | L39: =SUM(L40:L46) -> 0 | M39: =SUM(M40:M46) -> 0 | N39: =SUM(N40:N46) -> 0 | O39: =SUM(O40:O46) -> 0 | P39: =SUM(P40:P46) -> 0 | Q39: =SUM(Q40:Q46) -> 0 | R39: =SUM(R40:R46) -> 0 | S39: =SUM(S40:S46) -> 0 | T39: =(IF($E39<>0,$M$2,IF($L39<>0,$M$2,"")))
A40: 29 | J40: 551 | K40: осигурителни вноски от работодатели за Държавното обществено осигуряване (ДОО) | L40: =M40+N40+O40 -> 0 | S40: =P40+Q40+R40 -> 0 | T40: =(IF($E40<>0,$M$2,IF($L40<>0,$M$2,"")))
A41: 30 | J41: 552 | K41: осигурителни вноски от работодатели за Учителския пенсионен фонд (УчПФ) | L41: =M41+N41+O41 -> 0 | S41: =P41+Q41+R41 -> 0 | T41: =(IF($E41<>0,$M$2,IF($L41<>0,$M$2,"")))
A42: 31 | J42: 558 | K42: вноски по чл. 4б и 4в от КСО за сметка на осигурителя | L42: =M42+N42+O42 -> 0 | M42: 0 | N42: 0 | O42: 0 | P42: 0 | Q42: 0 | R42: 0 | S42: =P42+Q42+R42 -> 0 | T42: =(IF($E42<>0,$M$2,IF($L42<>0,$M$2,"")))
A43: 31 | J43: 560 | K43: здравно-осигурителни вноски от работодатели | L43: =M43+N43+O43 -> 0 | S43: =P43+Q43+R43 -> 0 | T43: =(IF($E43<>0,$M$2,IF($L43<>0,$M$2,"")))
A44: 32 | J44: 580 | K44: вноски за допълнително задължително осигуряване от работодатели | L44: =M44+N44+O44 -> 0 | S44: =P44+Q44+R44 -> 0 | T44: =(IF($E44<>0,$M$2,IF($L44<>0,$M$2,"")))
...
